BEGIN:VCALENDAR
VERSION:2.0
PRODID:https://www.gaharderwijk.nl
X-WR-TIMEZONE:Europe/Amsterdam
BEGIN:VTIMEZONE
TZID:Europe/Amsterdam
X-LIC-LOCATION:Europe/Amsterdam
END:VTIMEZONE
BEGIN:VEVENT
UID:69e63ea12c2a3
DTSTART:20260601T133000Z
SEQUENCE:0
TRANSP:OPAQUE
DTEND:20260601T143000Z
LOCATION:Constantijn Huygenslaan\, Harderwijk
SUMMARY:Danspret
CLASS:PUBLIC
DTSTAMP:20260420T145633Z
END:VEVENT
BEGIN:VEVENT
UID:69e63ea12c3f6
DTSTART:20260608T133000Z
SEQUENCE:0
TRANSP:OPAQUE
DTEND:20260608T143000Z
LOCATION:Constantijn Huygenslaan\, Harderwijk
SUMMARY:Danspret
CLASS:PUBLIC
DTSTAMP:20260420T145633Z
END:VEVENT
BEGIN:VEVENT
UID:69e63ea12c434
DTSTART:20260615T133000Z
SEQUENCE:0
TRANSP:OPAQUE
DTEND:20260615T143000Z
LOCATION:Constantijn Huygenslaan\, Harderwijk
SUMMARY:Danspret
CLASS:PUBLIC
DTSTAMP:20260420T145633Z
END:VEVENT
BEGIN:VEVENT
UID:69e63ea12c46b
DTSTART:20260622T133000Z
SEQUENCE:0
TRANSP:OPAQUE
DTEND:20260622T143000Z
LOCATION:Constantijn Huygenslaan\, Harderwijk
SUMMARY:Danspret
CLASS:PUBLIC
DTSTAMP:20260420T145633Z
END:VEVENT
BEGIN:VEVENT
UID:69e63ea12c4a0
DTSTART:20260629T133000Z
SEQUENCE:0
TRANSP:OPAQUE
DTEND:20260629T143000Z
LOCATION:Constantijn Huygenslaan\, Harderwijk
SUMMARY:Danspret
CLASS:PUBLIC
DTSTAMP:20260420T145633Z
END:VEVENT
END:VCALENDAR