BEGIN:VCALENDAR
VERSION:2.0
PRODID:https://www.gaharderwijk.nl
X-WR-TIMEZONE:Europe/Amsterdam
BEGIN:VTIMEZONE
TZID:Europe/Amsterdam
X-LIC-LOCATION:Europe/Amsterdam
END:VTIMEZONE
BEGIN:VEVENT
UID:69ecd9d8901c9
DTSTART:20260513T133000Z
SEQUENCE:0
TRANSP:OPAQUE
DTEND:20260513T144500Z
LOCATION:Strokelweg\, Harderwijk
SUMMARY:Mountainbiken
CLASS:PUBLIC
DTSTAMP:20260425T151224Z
END:VEVENT
END:VCALENDAR