BEGIN:VCALENDAR
VERSION:2.0
PRODID:https://www.gaharderwijk.nl
X-WR-TIMEZONE:Europe/Amsterdam
BEGIN:VTIMEZONE
TZID:Europe/Amsterdam
X-LIC-LOCATION:Europe/Amsterdam
END:VTIMEZONE
BEGIN:VEVENT
UID:69ecdfa1a4b6f
DTSTART:20260504T070000Z
SEQUENCE:0
TRANSP:OPAQUE
DTEND:20260504T120000Z
LOCATION:Piet Heinlaan 22\, Harderwijk
SUMMARY:Talentendag I Tweelingstad I Gr. 4 t/m 6
CLASS:PUBLIC
DTSTAMP:20260425T153705Z
END:VEVENT
END:VCALENDAR