BEGIN:VCALENDAR
VERSION:2.0
PRODID:https://www.gaharderwijk.nl
X-WR-TIMEZONE:Europe/Amsterdam
BEGIN:VTIMEZONE
TZID:Europe/Amsterdam
X-LIC-LOCATION:Europe/Amsterdam
END:VTIMEZONE
BEGIN:VEVENT
UID:69ecdf01c866f
DTSTART:20260513T120000Z
SEQUENCE:0
TRANSP:OPAQUE
DTEND:20260513T130000Z
LOCATION:Bosboom-Toussaintstraat\, Harderwijk
SUMMARY:Technieklessen I Al Islaah I Gr. 4 t/ 6
CLASS:PUBLIC
DTSTAMP:20260425T153425Z
END:VEVENT
BEGIN:VEVENT
UID:69ecdf01c87e8
DTSTART:20260520T120000Z
SEQUENCE:0
TRANSP:OPAQUE
DTEND:20260520T130000Z
LOCATION:Bosboom-Toussaintstraat\, Harderwijk
SUMMARY:Technieklessen I Al Islaah I Gr. 4 t/ 6
CLASS:PUBLIC
DTSTAMP:20260425T153425Z
END:VEVENT
BEGIN:VEVENT
UID:69ecdf01c8829
DTSTART:20260527T120000Z
SEQUENCE:0
TRANSP:OPAQUE
DTEND:20260527T130000Z
LOCATION:Bosboom-Toussaintstraat\, Harderwijk
SUMMARY:Technieklessen I Al Islaah I Gr. 4 t/ 6
CLASS:PUBLIC
DTSTAMP:20260425T153425Z
END:VEVENT
BEGIN:VEVENT
UID:69ecdf01c8862
DTSTART:20260603T120000Z
SEQUENCE:0
TRANSP:OPAQUE
DTEND:20260603T130000Z
LOCATION:Bosboom-Toussaintstraat\, Harderwijk
SUMMARY:Technieklessen I Al Islaah I Gr. 4 t/ 6
CLASS:PUBLIC
DTSTAMP:20260425T153425Z
END:VEVENT
END:VCALENDAR