BEGIN:VCALENDAR
VERSION:2.0
PRODID:https://www.gaharderwijk.nl
X-WR-TIMEZONE:Europe/Amsterdam
BEGIN:VTIMEZONE
TZID:Europe/Amsterdam
X-LIC-LOCATION:Europe/Amsterdam
END:VTIMEZONE
BEGIN:VEVENT
UID:69ecdb293aa39
DTSTART:20260610T120000Z
SEQUENCE:0
TRANSP:OPAQUE
DTEND:20260610T130000Z
LOCATION:Bosboom-Toussaintstraat\, Harderwijk
SUMMARY:Technieklessen I Al Islaah I Gr. 7 & 8
CLASS:PUBLIC
DTSTAMP:20260425T151801Z
END:VEVENT
BEGIN:VEVENT
UID:69ecdb293ab9e
DTSTART:20260617T120000Z
SEQUENCE:0
TRANSP:OPAQUE
DTEND:20260617T130000Z
LOCATION:Bosboom-Toussaintstraat\, Harderwijk
SUMMARY:Technieklessen I Al Islaah I Gr. 7 & 8
CLASS:PUBLIC
DTSTAMP:20260425T151801Z
END:VEVENT
BEGIN:VEVENT
UID:69ecdb293abde
DTSTART:20260624T120000Z
SEQUENCE:0
TRANSP:OPAQUE
DTEND:20260624T130000Z
LOCATION:Bosboom-Toussaintstraat\, Harderwijk
SUMMARY:Technieklessen I Al Islaah I Gr. 7 & 8
CLASS:PUBLIC
DTSTAMP:20260425T151801Z
END:VEVENT
BEGIN:VEVENT
UID:69ecdb293ac17
DTSTART:20260701T120000Z
SEQUENCE:0
TRANSP:OPAQUE
DTEND:20260701T130000Z
LOCATION:Bosboom-Toussaintstraat\, Harderwijk
SUMMARY:Technieklessen I Al Islaah I Gr. 7 & 8
CLASS:PUBLIC
DTSTAMP:20260425T151801Z
END:VEVENT
END:VCALENDAR