BEGIN:VCALENDAR
VERSION:2.0
PRODID:https://www.gaharderwijk.nl
X-WR-TIMEZONE:Europe/Amsterdam
BEGIN:VTIMEZONE
TZID:Europe/Amsterdam
X-LIC-LOCATION:Europe/Amsterdam
END:VTIMEZONE
BEGIN:VEVENT
UID:69ece337d5972
DTSTART:20260511T130000Z
SEQUENCE:0
TRANSP:OPAQUE
DTEND:20260511T140000Z
LOCATION:Piet Heinlaan 22\, Harderwijk
SUMMARY:Technieklessen I De Brug I Gr. 4 t/m 6
CLASS:PUBLIC
DTSTAMP:20260425T155223Z
END:VEVENT
BEGIN:VEVENT
UID:69ece337d5ad1
DTSTART:20260518T130000Z
SEQUENCE:0
TRANSP:OPAQUE
DTEND:20260518T140000Z
LOCATION:Piet Heinlaan 22\, Harderwijk
SUMMARY:Technieklessen I De Brug I Gr. 4 t/m 6
CLASS:PUBLIC
DTSTAMP:20260425T155223Z
END:VEVENT
BEGIN:VEVENT
UID:69ece337d5b12
DTSTART:20260525T130000Z
SEQUENCE:0
TRANSP:OPAQUE
DTEND:20260525T140000Z
LOCATION:Piet Heinlaan 22\, Harderwijk
SUMMARY:Technieklessen I De Brug I Gr. 4 t/m 6
CLASS:PUBLIC
DTSTAMP:20260425T155223Z
END:VEVENT
BEGIN:VEVENT
UID:69ece337d5b4a
DTSTART:20260601T130000Z
SEQUENCE:0
TRANSP:OPAQUE
DTEND:20260601T140000Z
LOCATION:Piet Heinlaan 22\, Harderwijk
SUMMARY:Technieklessen I De Brug I Gr. 4 t/m 6
CLASS:PUBLIC
DTSTAMP:20260425T155223Z
END:VEVENT
END:VCALENDAR