BEGIN:VCALENDAR
VERSION:2.0
PRODID:https://www.gaharderwijk.nl
X-WR-TIMEZONE:Europe/Amsterdam
BEGIN:VTIMEZONE
TZID:Europe/Amsterdam
X-LIC-LOCATION:Europe/Amsterdam
END:VTIMEZONE
BEGIN:VEVENT
UID:69ecd9ce6cebd
DTSTART:20260608T130000Z
SEQUENCE:0
TRANSP:OPAQUE
DTEND:20260608T140000Z
LOCATION:Piet Heinlaan 22\, Harderwijk
SUMMARY:Technieklessen I De Brug I Gr. 7 & 8
CLASS:PUBLIC
DTSTAMP:20260425T151214Z
END:VEVENT
BEGIN:VEVENT
UID:69ecd9ce6d015
DTSTART:20260615T130000Z
SEQUENCE:0
TRANSP:OPAQUE
DTEND:20260615T140000Z
LOCATION:Piet Heinlaan 22\, Harderwijk
SUMMARY:Technieklessen I De Brug I Gr. 7 & 8
CLASS:PUBLIC
DTSTAMP:20260425T151214Z
END:VEVENT
BEGIN:VEVENT
UID:69ecd9ce6d062
DTSTART:20260622T130000Z
SEQUENCE:0
TRANSP:OPAQUE
DTEND:20260622T140000Z
LOCATION:Piet Heinlaan 22\, Harderwijk
SUMMARY:Technieklessen I De Brug I Gr. 7 & 8
CLASS:PUBLIC
DTSTAMP:20260425T151214Z
END:VEVENT
BEGIN:VEVENT
UID:69ecd9ce6d09d
DTSTART:20260629T130000Z
SEQUENCE:0
TRANSP:OPAQUE
DTEND:20260629T140000Z
LOCATION:Piet Heinlaan 22\, Harderwijk
SUMMARY:Technieklessen I De Brug I Gr. 7 & 8
CLASS:PUBLIC
DTSTAMP:20260425T151214Z
END:VEVENT
END:VCALENDAR